BEGIN:VCALENDAR
VERSION:2.0
PRODID:-//Plone.org//NONSGML plone.app.event//EN
X-WR-TIMEZONE:Europe/Berlin
BEGIN:VEVENT
SUMMARY:INSPIRE Praktikumsbegleitung
DTSTART;TZID=Europe/Berlin:20260211T160000
DTEND;TZID=Europe/Berlin:20260211T190000
DTSTAMP:20260424T230941Z
UID:56d3de8f43ce4d90a74721eb7b53ae38@www.uni-marburg.de
CATEGORIES:()
CREATED:20251105T104503Z
DESCRIPTION:https://www.uni-marburg.de/de/konfliktforschung/aktuelles/term
 ine/inspire-praktikumsbegleitung/copy6_of_inspire-praktikumsbegleitung\nWo
 rkshop zu Critical Whiteness im Praktikum
LAST-MODIFIED:20260130T100453Z
LOCATION:tba
URL:https://www.uni-marburg.de/de/konfliktforschung/aktuelles/termine/insp
 ire-praktikumsbegleitung/copy6_of_inspire-praktikumsbegleitung
END:VEVENT
BEGIN:VTIMEZONE
TZID:Europe/Berlin
X-LIC-LOCATION:Europe/Berlin
BEGIN:STANDARD
DTSTART:20251026T020000
TZNAME:CET
TZOFFSETFROM:+0200
TZOFFSETTO:+0100
END:STANDARD
END:VTIMEZONE
END:VCALENDAR
