BEGIN:VCALENDAR
VERSION:2.0
PRODID:-//Plone.org//NONSGML plone.app.event//EN
X-WR-TIMEZONE:Europe/Berlin
BEGIN:VEVENT
SUMMARY:Frieden als Diskurs
DTSTART;TZID=Europe/Berlin:20260420T183000
DTEND;TZID=Europe/Berlin:20260420T200000
DTSTAMP:20260424T171712Z
UID:0b37d8d8ba9a495288a5410b3c7108e3@www.uni-marburg.de
ATTENDEE;CN="Prof. Dr. Melanie Hussak | Evangelische Hochschule Freiburg";
 ROLE=REQ-PARTICIPANT:Prof. Dr. Melanie Hussak | Evangelische Hochschule Fr
 eiburg
ATTENDEE;CN="Sigrun Rottmann | Technische Universität Dortmund | Journali
 stin ";ROLE=REQ-PARTICIPANT:Sigrun Rottmann | Technische Universität Dort
 mund | Journalistin 
ATTENDEE;CN="Dr. Markus Mayer | GIZ, Eschborn";ROLE=REQ-PARTICIPANT:Dr. Ma
 rkus Mayer | GIZ, Eschborn
CATEGORIES:()
CREATED:20260311T120143Z
DESCRIPTION:https://www.uni-marburg.de/de/konfliktforschung/aktuelles/term
 ine/kgz-vortragsreihe-sose-2026/frieden-als-diskurs\nPodiumsdiskussion mit
  Prof. Dr. Melanie Hussak (Evangelische Hochschule Freiburg)\, Sigrun Rott
 mann (Technische Universität Dortmund) und Dr. Markus Mayer (GIZ\, Eschbo
 rn) im Rahmen der Vortragsreihe "Konflikte in Gegenwart und Zukunft"
LAST-MODIFIED:20260317T104118Z
LOCATION:Historischer Rathaussaal\, Marburg\, 2. OG
URL:https://www.uni-marburg.de/de/konfliktforschung/aktuelles/termine/kgz-
 vortragsreihe-sose-2026/frieden-als-diskurs
END:VEVENT
BEGIN:VTIMEZONE
TZID:Europe/Berlin
X-LIC-LOCATION:Europe/Berlin
BEGIN:DAYLIGHT
DTSTART:20260329T030000
TZNAME:CEST
TZOFFSETFROM:+0100
TZOFFSETTO:+0200
END:DAYLIGHT
END:VTIMEZONE
END:VCALENDAR
