BEGIN:VCALENDAR
VERSION:2.0
PRODID:-//Plone.org//NONSGML plone.app.event//EN
X-WR-TIMEZONE:Europe/Berlin
BEGIN:VEVENT
SUMMARY:Frieden durch Verbinden: Eine Antwort auf die Politik der Polarisi
 erung
DTSTART;TZID=Europe/Berlin:20260413T183000
DTEND;TZID=Europe/Berlin:20260413T200000
DTSTAMP:20260426T052430Z
UID:9a318c7e6fa941daa945955c26fa5fe2@www.uni-marburg.de
ATTENDEE;CN="Gilda Sahebi | Journalistin und Autorin, Berlin";ROLE=REQ-PAR
 TICIPANT:Gilda Sahebi | Journalistin und Autorin, Berlin
CATEGORIES:()
CREATED:20260223T110553Z
DESCRIPTION:https://www.uni-marburg.de/de/konfliktforschung/aktuelles/term
 ine/kgz-vortragsreihe-sose-2026/frieden-durch-verbinden-eine-antwort-auf-d
 ie-politik-der-polarisierung\nLesung und Diskussion mit Gilda Sahebi im Ra
 hmen der Vortragsreihe "Konflikte in Gegenwart und Zukunft"
LAST-MODIFIED:20260313T190428Z
LOCATION:Historischer Rathaussaal\, Marburg\, 2. OG
URL:https://www.uni-marburg.de/de/konfliktforschung/aktuelles/termine/kgz-
 vortragsreihe-sose-2026/frieden-durch-verbinden-eine-antwort-auf-die-polit
 ik-der-polarisierung
END:VEVENT
BEGIN:VTIMEZONE
TZID:Europe/Berlin
X-LIC-LOCATION:Europe/Berlin
BEGIN:DAYLIGHT
DTSTART:20260329T030000
TZNAME:CEST
TZOFFSETFROM:+0100
TZOFFSETTO:+0200
END:DAYLIGHT
END:VTIMEZONE
END:VCALENDAR
