BEGIN:VCALENDAR
VERSION:2.0
PRODID:-//Plone.org//NONSGML plone.app.event//EN
X-WR-TIMEZONE:Europe/Berlin
BEGIN:VEVENT
SUMMARY:Friedensethik in islamisch-philosophischer Perspektive
DTSTART;TZID=Europe/Berlin:20260427T183000
DTEND;TZID=Europe/Berlin:20260427T200000
DTSTAMP:20260425T050246Z
UID:47535c4adc284fefa9275f72e14f3143@www.uni-marburg.de
ATTENDEE;CN="Jun.-Prof. Dr. Asmaa El Maaroufi | Universität Münster";ROL
 E=REQ-PARTICIPANT:Jun.-Prof. Dr. Asmaa El Maaroufi | Universität Münster
CATEGORIES:()
CREATED:20260311T121158Z
DESCRIPTION:https://www.uni-marburg.de/de/konfliktforschung/aktuelles/term
 ine/kgz-vortragsreihe-sose-2026/friedensethik-in-islamisch-philosophischer
 -perspektive\nVortrag und Diskussion mit Jun.-Prof. Dr. Asmaa El Maaroufi 
 (Universität Münster) im Rahmen der Vortragsreihe "Konflikte in Gegenwar
 t und Zukunft"
LAST-MODIFIED:20260311T121511Z
LOCATION:Historischer Rathaussaal\, Marburg\, 2. OG
URL:https://www.uni-marburg.de/de/konfliktforschung/aktuelles/termine/kgz-
 vortragsreihe-sose-2026/friedensethik-in-islamisch-philosophischer-perspek
 tive
END:VEVENT
BEGIN:VTIMEZONE
TZID:Europe/Berlin
X-LIC-LOCATION:Europe/Berlin
BEGIN:DAYLIGHT
DTSTART:20260329T030000
TZNAME:CEST
TZOFFSETFROM:+0100
TZOFFSETTO:+0200
END:DAYLIGHT
END:VTIMEZONE
END:VCALENDAR
