BEGIN:VCALENDAR
VERSION:2.0
PRODID:-//Plone.org//NONSGML plone.app.event//EN
X-WR-TIMEZONE:Europe/Berlin
BEGIN:VEVENT
SUMMARY:Open Lecture "Legacies of Liberation: Revisiting Peace Studies in 
 Contentious Times"
DTSTART;TZID=Europe/Berlin:20250526T180000
DTEND;TZID=Europe/Berlin:20250526T200000
DTSTAMP:20260424T053917Z
UID:8b82c596e28b4c7c961a0d3f8cba9b37@www.uni-marburg.de
ATTENDEE;CN="Prof. Dr. Rirhandu Mageza-Barthel";ROLE=REQ-PARTICIPANT:Prof.
  Dr. Rirhandu Mageza-Barthel
CREATED:20250522T073311Z
DESCRIPTION:https://www.uni-marburg.de/de/konfliktforschung/aktuelles/term
 ine/open-lecture-legacies-of-liberation-revisiting-peace-studies-in-conten
 tious-times\n
LAST-MODIFIED:20250522T081259Z
LOCATION:Pilgrimstein 12\, Room 305\, 35037 Marburg
URL:https://www.uni-marburg.de/de/konfliktforschung/aktuelles/termine/open
 -lecture-legacies-of-liberation-revisiting-peace-studies-in-contentious-ti
 mes
END:VEVENT
BEGIN:VTIMEZONE
TZID:Europe/Berlin
X-LIC-LOCATION:Europe/Berlin
BEGIN:DAYLIGHT
DTSTART:20250330T030000
TZNAME:CEST
TZOFFSETFROM:+0100
TZOFFSETTO:+0200
END:DAYLIGHT
END:VTIMEZONE
END:VCALENDAR
