BEGIN:VCALENDAR
VERSION:2.0
PRODID:-//Plone.org//NONSGML plone.app.event//EN
X-WR-TIMEZONE:Europe/Berlin
BEGIN:VEVENT
SUMMARY:Bewegungsfreiheit und die EU Migrations- und Asylpolitik
DTSTART;TZID=Europe/Berlin:20240708T183000
DTEND;TZID=Europe/Berlin:20240708T200000
DTSTAMP:20260425T225438Z
UID:f84a6d0f17f04ad0ae4f3b059c792c98@www.uni-marburg.de
ATTENDEE;CN="Valeria Hänsel";ROLE=REQ-PARTICIPANT:Valeria Hänsel
ATTENDEE;CN="Adrian Pourviseh";ROLE=REQ-PARTICIPANT:Adrian Pourviseh
CREATED:20240403T085139Z
DESCRIPTION:https://www.uni-marburg.de/de/konfliktforschung/aktuelles/term
 ine/vortragsreihe/bewegungsfreiheit-und-die-eu-migrations-und-asylpolitik\
 nPodiumsgespräch im Rahmen der Vortragsreihe "Konflikte in Gegenwart und 
 Zukunft"
LAST-MODIFIED:20240409T132114Z
LOCATION:Historischer Ratshaussaal am Markt\, Marburg
URL:https://www.uni-marburg.de/de/konfliktforschung/aktuelles/termine/vort
 ragsreihe/bewegungsfreiheit-und-die-eu-migrations-und-asylpolitik
END:VEVENT
BEGIN:VTIMEZONE
TZID:Europe/Berlin
X-LIC-LOCATION:Europe/Berlin
BEGIN:DAYLIGHT
DTSTART:20240331T030000
TZNAME:CEST
TZOFFSETFROM:+0100
TZOFFSETTO:+0200
END:DAYLIGHT
END:VTIMEZONE
END:VCALENDAR
