BEGIN:VCALENDAR
VERSION:2.0
PRODID:-//Plone.org//NONSGML plone.app.event//EN
X-WR-TIMEZONE:Europe/Berlin
BEGIN:VEVENT
SUMMARY:Center Colloquium: "Conceptualizing reconciliation in the post-con
 flict context of Bosnia and Herzegovina: a Q-methodological study" by Tija
 na Karić
DTSTART;TZID=Europe/Berlin:20231023T120000
DTEND;TZID=Europe/Berlin:20231023T140000
DTSTAMP:20260424T235940Z
UID:a8b9479d02084109b2a0a86d6059467c@www.uni-marburg.de
ATTENDEE;CN="Tijana Karić ";ROLE=REQ-PARTICIPANT:Tijana Karić 
CREATED:20231009T105219Z
DESCRIPTION:https://www.uni-marburg.de/de/konfliktforschung/aktuelles/term
 ine/vortragsreihe/center-colloquium-lets-talk-about-conflict\n
LAST-MODIFIED:20240311T144513Z
LOCATION:Dekanatssaal in der Ketzerbach 63 Marburg\, +2/0140
URL:https://www.uni-marburg.de/de/konfliktforschung/aktuelles/termine/vort
 ragsreihe/center-colloquium-lets-talk-about-conflict
END:VEVENT
BEGIN:VTIMEZONE
TZID:Europe/Berlin
X-LIC-LOCATION:Europe/Berlin
BEGIN:DAYLIGHT
DTSTART:20230326T030000
TZNAME:CEST
TZOFFSETFROM:+0100
TZOFFSETTO:+0200
END:DAYLIGHT
END:VTIMEZONE
END:VCALENDAR
