BEGIN:VCALENDAR
VERSION:2.0
PRODID:-//Plone.org//NONSGML plone.app.event//EN
X-WR-TIMEZONE:Europe/Berlin
BEGIN:VEVENT
SUMMARY:Gekränkte Freiheit
DTSTART;TZID=Europe/Berlin:20240610T183000
DTSTAMP:20260424T211252Z
UID:340376dab0fa496c92a9beff1f549616@www.uni-marburg.de
ATTENDEE;CN="Prof. Dr. Oliver Nachtwey";ROLE=REQ-PARTICIPANT:Prof. Dr. Oli
 ver Nachtwey
CREATED:20240403T083831Z
DESCRIPTION:https://www.uni-marburg.de/de/konfliktforschung/aktuelles/term
 ine/vortragsreihe/gekraenkte-freiheit\nVortrag von Oliver Nachtwey im Rahm
 en der Vortragsreihe "Konflikte in Gegenwart und Zukunft"
LAST-MODIFIED:20240409T114627Z
LOCATION:Historischer Ratshaussaal am Markt\, Marburg
URL:https://www.uni-marburg.de/de/konfliktforschung/aktuelles/termine/vort
 ragsreihe/gekraenkte-freiheit
END:VEVENT
BEGIN:VTIMEZONE
TZID:Europe/Berlin
X-LIC-LOCATION:Europe/Berlin
BEGIN:DAYLIGHT
DTSTART:20240331T030000
TZNAME:CEST
TZOFFSETFROM:+0100
TZOFFSETTO:+0200
END:DAYLIGHT
END:VTIMEZONE
END:VCALENDAR
