BEGIN:VCALENDAR
VERSION:2.0
PRODID:-//Plone.org//NONSGML plone.app.event//EN
X-WR-TIMEZONE:Europe/Berlin
BEGIN:VEVENT
SUMMARY:Gespräch zur Weiterführung der Ringvorlesung „Konflikte in Geg
 enwart und Zukunft"
DTSTART;TZID=Europe/Berlin:20221205T183000
DTEND;TZID=Europe/Berlin:20221205T200000
DTSTAMP:20260426T002442Z
UID:5d9856998d1e43ff968315e4ebd26908@www.uni-marburg.de
CREATED:20221128T115406Z
DESCRIPTION:https://www.uni-marburg.de/de/konfliktforschung/aktuelles/term
 ine/vortragsreihe/gespraech-zur-weiterfuehrung-der-ringvorlesung-konflikte
 -in-gegenwart-und-zukunft\n
LAST-MODIFIED:20240311T144012Z
LOCATION:Biegenstraße 14\, Raum 00/0020 (Hörsaalgebäude)\, 35037 Marbur
 g
URL:https://www.uni-marburg.de/de/konfliktforschung/aktuelles/termine/vort
 ragsreihe/gespraech-zur-weiterfuehrung-der-ringvorlesung-konflikte-in-gege
 nwart-und-zukunft
END:VEVENT
BEGIN:VTIMEZONE
TZID:Europe/Berlin
X-LIC-LOCATION:Europe/Berlin
BEGIN:STANDARD
DTSTART:20221030T020000
TZNAME:CET
TZOFFSETFROM:+0200
TZOFFSETTO:+0100
END:STANDARD
END:VTIMEZONE
END:VCALENDAR
