BEGIN:VCALENDAR
VERSION:2.0
PRODID:-//Plone.org//NONSGML plone.app.event//EN
X-WR-TIMEZONE:Europe/Berlin
BEGIN:VEVENT
SUMMARY:Realitätsschock: Zu den Grenzen wissenschaftsbasierter Politik
DTSTART;TZID=Europe/Berlin:20250203T183000
DTEND;TZID=Europe/Berlin:20250203T200000
DTSTAMP:20260426T032437Z
UID:e6bad9a827bf4887a0df16d8fe60d6a3@www.uni-marburg.de
ATTENDEE;CN="Prof. Dr Uwe Schneidewind";ROLE=REQ-PARTICIPANT:Prof. Dr Uwe 
 Schneidewind
CREATED:20240925T114157Z
DESCRIPTION:https://www.uni-marburg.de/de/konfliktforschung/aktuelles/term
 ine/vortragsreihe/realitaetsschock-zu-den-grenzen-wissenschaftsbasierter-p
 olitik\nVortrag von Prof. Dr. Uwe Schneidewind im Rahmen der Veranstaltung
 sreihe "Konflikte in Gegenwart und Zukunft"
LAST-MODIFIED:20241204T101445Z
LOCATION:Erwin-Piscator-Haus\, Biegenstraße 15\, 35037 Marburg\, Aktionsr
 aum 2\, 1. Stock
URL:https://www.uni-marburg.de/de/konfliktforschung/aktuelles/termine/vort
 ragsreihe/realitaetsschock-zu-den-grenzen-wissenschaftsbasierter-politik
END:VEVENT
BEGIN:VTIMEZONE
TZID:Europe/Berlin
X-LIC-LOCATION:Europe/Berlin
BEGIN:STANDARD
DTSTART:20241027T020000
TZNAME:CET
TZOFFSETFROM:+0200
TZOFFSETTO:+0100
END:STANDARD
END:VTIMEZONE
END:VCALENDAR
