BEGIN:VCALENDAR
VERSION:2.0
PRODID:-//Plone.org//NONSGML plone.app.event//EN
X-WR-TIMEZONE:Europe/Berlin
BEGIN:VEVENT
SUMMARY:Unterschiede lokaler Räume des Rechtsextremismus in Hessen
DTSTART;TZID=Europe/Berlin:20240129T183000
DTSTAMP:20260425T194505Z
UID:ee0fbe198ee54264b03a9b5bb23318c1@www.uni-marburg.de
ATTENDEE;CN="Bernd Belina (Goethe-Universität Frankfurt) und Reiner Becke
 r (Demokratiezentrum Hessen)";ROLE=REQ-PARTICIPANT:Bernd Belina (Goethe-Un
 iversität Frankfurt) und Reiner Becker (Demokratiezentrum Hessen)
CREATED:20240122T131504Z
DESCRIPTION:https://www.uni-marburg.de/de/konfliktforschung/aktuelles/term
 ine/vortragsreihe/unterschiede-lokaler-raeume-des-rechtsextremismus-in-hes
 sen\nVortrag von Bernd Belina und Reiner Becker im Rahmen der Vortragsreih
 e "Konflikte in Gegenwart und Zukunft"
LAST-MODIFIED:20240311T144640Z
LOCATION:Historischer Rathaussaal am Markt\, Marburg
URL:https://www.uni-marburg.de/de/konfliktforschung/aktuelles/termine/vort
 ragsreihe/unterschiede-lokaler-raeume-des-rechtsextremismus-in-hessen
END:VEVENT
BEGIN:VTIMEZONE
TZID:Europe/Berlin
X-LIC-LOCATION:Europe/Berlin
BEGIN:STANDARD
DTSTART:20231029T020000
TZNAME:CET
TZOFFSETFROM:+0200
TZOFFSETTO:+0100
END:STANDARD
END:VTIMEZONE
END:VCALENDAR
