BEGIN:VCALENDAR
VERSION:2.0
PRODID:-//Plone.org//NONSGML plone.app.event//EN
X-WR-TIMEZONE:Europe/Berlin
BEGIN:VEVENT
SUMMARY:Wissenschaftsfreiheit\, Podiumsgespräch mit Minister Gremmels
DTSTART;TZID=Europe/Berlin:20240430T183000
DTEND;TZID=Europe/Berlin:20240430T200000
DTSTAMP:20260425T214503Z
UID:c1df3f40a494410aa75abb7970942498@www.uni-marburg.de
ATTENDEE;CN="Minister Timon Gremmels";ROLE=REQ-PARTICIPANT:Minister Timon 
 Gremmels
ATTENDEE;CN="Prof. Dr. Barbara Stollberg-Rilinger";ROLE=REQ-PARTICIPANT:Pr
 of. Dr. Barbara Stollberg-Rilinger
ATTENDEE;CN="Prof. Dr. Teresa Koloma Beck";ROLE=REQ-PARTICIPANT:Prof. Dr. 
 Teresa Koloma Beck
CREATED:20240408T133320Z
DESCRIPTION:https://www.uni-marburg.de/de/konfliktforschung/aktuelles/term
 ine/vortragsreihe/wissenschaftsfreiheit-podiumsgespraech-mit-minister-grem
 mels\nPodiumsgespräch im Rahmen der Vortragsreihe "Konflikte in Gegenwart
  und Zukunft"
LAST-MODIFIED:20240409T114955Z
LOCATION:Vortragsraum der Universitätsbibliothek\, Deutschhausstraße 9\,
  Marburg
URL:https://www.uni-marburg.de/de/konfliktforschung/aktuelles/termine/vort
 ragsreihe/wissenschaftsfreiheit-podiumsgespraech-mit-minister-gremmels
END:VEVENT
BEGIN:VTIMEZONE
TZID:Europe/Berlin
X-LIC-LOCATION:Europe/Berlin
BEGIN:DAYLIGHT
DTSTART:20240331T030000
TZNAME:CEST
TZOFFSETFROM:+0100
TZOFFSETTO:+0200
END:DAYLIGHT
END:VTIMEZONE
END:VCALENDAR
