BEGIN:VCALENDAR
VERSION:2.0
PRODID:-//Plone.org//NONSGML plone.app.event//EN
X-WR-TIMEZONE:Europe/Berlin
BEGIN:VEVENT
SUMMARY:Center Colloquium - Ivan Bakalov and Andrew Johnson
DTSTART;TZID=Europe/Berlin:20230522T120000
DTEND;TZID=Europe/Berlin:20230522T130000
DTSTAMP:20260421T121841Z
UID:2572378cab9c466d9ff972d05b9e6df0@www.uni-marburg.de
ATTENDEE;CN="Ivan Bakalov (Marburg)";ROLE=REQ-PARTICIPANT:Ivan Bakalov (Ma
 rburg)
ATTENDEE;CN="Andrew Johnson (Marburg)";ROLE=REQ-PARTICIPANT:Andrew Johnson
  (Marburg)
CREATED:20230404T102510Z
DESCRIPTION:https://www.uni-marburg.de/de/konfliktforschung/aktuelles/term
 ine/zentrumskolloquium/center-colloquium-session-3\nIvan Bakalov: Explaini
 ng Russia's Invasion in Ukraine: Debating Geopolitics\, Civilisational Cho
 ice\, and Dead-End Capitalist Transition \n\nAndrew Johnson: Two Abolition
 ist Parables: Le Guin v. Jemisin
LAST-MODIFIED:20240311T144246Z
LOCATION:Ketzerbach 63\, Dekanats-Saal +2/0140
URL:https://www.uni-marburg.de/de/konfliktforschung/aktuelles/termine/zent
 rumskolloquium/center-colloquium-session-3
END:VEVENT
BEGIN:VTIMEZONE
TZID:Europe/Berlin
X-LIC-LOCATION:Europe/Berlin
BEGIN:DAYLIGHT
DTSTART:20230326T030000
TZNAME:CEST
TZOFFSETFROM:+0100
TZOFFSETTO:+0200
END:DAYLIGHT
END:VTIMEZONE
END:VCALENDAR
