BEGIN:VCALENDAR
VERSION:2.0
PRODID:-//Plone.org//NONSGML plone.app.event//EN
X-WR-TIMEZONE:Europe/Berlin
BEGIN:VEVENT
SUMMARY:Center Colloquium - Network Postcolonial Hierarchies in Peace and 
 Conflict and Tobias Müller
DTSTART;TZID=Europe/Berlin:20230605T120000
DTEND;TZID=Europe/Berlin:20230605T130000
DTSTAMP:20260421T121832Z
UID:ae33421c92684185aeff7f554f86409e@www.uni-marburg.de
ATTENDEE;CN="Network Postcolonial Hierarchies in Peace and Conflict";ROLE=
 REQ-PARTICIPANT:Network Postcolonial Hierarchies in Peace and Conflict
ATTENDEE;CN="Tobias Müller";ROLE=REQ-PARTICIPANT:Tobias Müller
CREATED:20230404T103928Z
DESCRIPTION:https://www.uni-marburg.de/de/konfliktforschung/aktuelles/term
 ine/zentrumskolloquium/center-colloquium-session-4\nNetwork Postcolonial H
 ierarchies in Peace and Conflict | Tobias Müller: Climate Coloniality and
  Democratic Futures
LAST-MODIFIED:20240311T144249Z
LOCATION:Ketzerbach 63\, Dekanats-Saal +2/0140
URL:https://www.uni-marburg.de/de/konfliktforschung/aktuelles/termine/zent
 rumskolloquium/center-colloquium-session-4
END:VEVENT
BEGIN:VTIMEZONE
TZID:Europe/Berlin
X-LIC-LOCATION:Europe/Berlin
BEGIN:DAYLIGHT
DTSTART:20230326T030000
TZNAME:CEST
TZOFFSETFROM:+0100
TZOFFSETTO:+0200
END:DAYLIGHT
END:VTIMEZONE
END:VCALENDAR
