BEGIN:VCALENDAR
VERSION:2.0
PRODID:-//Plone.org//NONSGML plone.app.event//EN
X-WR-TIMEZONE:Europe/Berlin
BEGIN:VEVENT
SUMMARY:“Let's Talk about Conflict” | Session 1 | Center Colloquium Su
 mmer 2026
DTSTART;TZID=Europe/Berlin:20260420T120000
DTEND;TZID=Europe/Berlin:20260420T140000
DTSTAMP:20260424T114837Z
UID:5f4e651e3b4245d69108850e0ceea801@www.uni-marburg.de
ATTENDEE;CN="M. Fuat Kina (Institute of Population and Social Research, Ma
 rmara University, Istanbul)";ROLE=REQ-PARTICIPANT:M. Fuat Kina (Institute 
 of Population and Social Research, Marmara University, Istanbul)
ATTENDEE;CN="Violette Mens (Center for Conflict Studies, Marburg Universit
 y)";ROLE=REQ-PARTICIPANT:Violette Mens (Center for Conflict Studies, Marbu
 rg University)
CATEGORIES:()
CREATED:20251008T090356Z
DESCRIPTION:https://www.uni-marburg.de/de/konfliktforschung/aktuelles/term
 ine/zentrumskolloquium/center-colloquium-summer-26-lets-talk-about-conflic
 t-session-1\nThe Center Colloquium takes place several times a semester an
 d is a regular meeting point for the Center for Conflict Studies staff to 
 exchange about projects in research and teaching.
LAST-MODIFIED:20260330T073325Z
LOCATION:Ketzerbach 63\, Room +2/0140
URL:https://www.uni-marburg.de/de/konfliktforschung/aktuelles/termine/zent
 rumskolloquium/center-colloquium-summer-26-lets-talk-about-conflict-sessio
 n-1
END:VEVENT
BEGIN:VTIMEZONE
TZID:Europe/Berlin
X-LIC-LOCATION:Europe/Berlin
BEGIN:DAYLIGHT
DTSTART:20260329T030000
TZNAME:CEST
TZOFFSETFROM:+0100
TZOFFSETTO:+0200
END:DAYLIGHT
END:VTIMEZONE
END:VCALENDAR
