BEGIN:VCALENDAR
VERSION:2.0
PRODID:-//Plone.org//NONSGML plone.app.event//EN
X-WR-TIMEZONE:Europe/Berlin
BEGIN:VEVENT
SUMMARY:“Let's Talk about Conflict” | Session 2 | Center Colloquium Su
 mmer 2026
DTSTART;TZID=Europe/Berlin:20260504T120000
DTEND;TZID=Europe/Berlin:20260504T140000
DTSTAMP:20260424T132743Z
UID:77ab0a8d88704fe589c5b040869098b7@www.uni-marburg.de
ATTENDEE;CN="Nina Khamsy (University of Neuchâtel, Switzerland)";ROLE=REQ
 -PARTICIPANT:Nina Khamsy (University of Neuchâtel, Switzerland)
ATTENDEE;CN="Svetlana Erpyleva (University of Bremen, Research Centre for 
 East European Studies)";ROLE=REQ-PARTICIPANT:Svetlana Erpyleva (University
  of Bremen, Research Centre for East European Studies)
CATEGORIES:()
CREATED:20251008T090356Z
DESCRIPTION:https://www.uni-marburg.de/de/konfliktforschung/aktuelles/term
 ine/zentrumskolloquium/center-colloquium-summer-26-lets-talk-about-conflic
 t-session-2\nThe Center Colloquium takes place several times a semester an
 d is a regular meeting point for the Center for Conflict Studies staff to 
 exchange about projects in research and teaching.
LAST-MODIFIED:20260330T073506Z
LOCATION:Ketzerbach 63\, Room +2/0140
URL:https://www.uni-marburg.de/de/konfliktforschung/aktuelles/termine/zent
 rumskolloquium/center-colloquium-summer-26-lets-talk-about-conflict-sessio
 n-2
END:VEVENT
BEGIN:VTIMEZONE
TZID:Europe/Berlin
X-LIC-LOCATION:Europe/Berlin
BEGIN:DAYLIGHT
DTSTART:20260329T030000
TZNAME:CEST
TZOFFSETFROM:+0100
TZOFFSETTO:+0200
END:DAYLIGHT
END:VTIMEZONE
END:VCALENDAR
