BEGIN:VCALENDAR
VERSION:2.0
PRODID:-//Plone.org//NONSGML plone.app.event//EN
X-WR-TIMEZONE:Europe/Berlin
BEGIN:VEVENT
SUMMARY:“Let's Talk about Conflict” | Session 1 | Center Colloquium Wi
 nter 2025/26
DTSTART;TZID=Europe/Berlin:20251020T120000
DTEND;TZID=Europe/Berlin:20251020T140000
DTSTAMP:20260425T061213Z
UID:a515085fc83b4aa5be957acc6a32644a@www.uni-marburg.de
ATTENDEE;CN="Ireen Mudeka (Midlands State University, Zimbabwe)";ROLE=REQ-
 PARTICIPANT:Ireen Mudeka (Midlands State University, Zimbabwe)
ATTENDEE;CN="Violette Mens (Center for Conflict Studies, Marburg Universit
 y)";ROLE=REQ-PARTICIPANT:Violette Mens (Center for Conflict Studies, Marbu
 rg University)
CATEGORIES:()
CREATED:20251008T090356Z
DESCRIPTION:https://www.uni-marburg.de/de/konfliktforschung/aktuelles/term
 ine/zentrumskolloquium/center-colloquium-winter-2025-26-lets-talk-about-co
 nflict-session-1\nThe Center Colloquium takes place several times a semest
 er and is a regular meeting point for the Center for Conflict Studies staf
 f to exchange about projects in research and teaching.
LAST-MODIFIED:20251008T091910Z
LOCATION:Ketzerbach 63\, Room +2/0140
URL:https://www.uni-marburg.de/de/konfliktforschung/aktuelles/termine/zent
 rumskolloquium/center-colloquium-winter-2025-26-lets-talk-about-conflict-s
 ession-1
END:VEVENT
BEGIN:VTIMEZONE
TZID:Europe/Berlin
X-LIC-LOCATION:Europe/Berlin
BEGIN:DAYLIGHT
DTSTART:20250330T030000
TZNAME:CEST
TZOFFSETFROM:+0100
TZOFFSETTO:+0200
END:DAYLIGHT
END:VTIMEZONE
END:VCALENDAR
