BEGIN:VCALENDAR
VERSION:2.0
PRODID:-//Plone.org//NONSGML plone.app.event//EN
X-WR-TIMEZONE:Europe/Berlin
BEGIN:VEVENT
SUMMARY:LET ́S TALK ABOUT CONFLICT - Center Colloquium - Session 3
DTSTART;TZID=Europe/Berlin:20221219T120000
DTEND;TZID=Europe/Berlin:20221219T140000
DTSTAMP:20260425T044752Z
UID:e90c1ccd55db4367839d84faf9416bd7@www.uni-marburg.de
ATTENDEE;CN=" Daniel Lambach (Goethe University Frankfurt)";ROLE=REQ-PARTI
 CIPANT: Daniel Lambach (Goethe University Frankfurt)
ATTENDEE;CN="Practicing territory and community in digital spaces";ROLE=RE
 Q-PARTICIPANT:Practicing territory and community in digital spaces
ATTENDEE;CN=;ROLE=REQ-PARTICIPANT:
ATTENDEE;CN="Zeynep Aydin (Philipps University Marburg)";ROLE=REQ-PARTICIP
 ANT:Zeynep Aydin (Philipps University Marburg)
ATTENDEE;CN="Charlie and the Secularism Factory";ROLE=REQ-PARTICIPANT:Char
 lie and the Secularism Factory
CREATED:20221108T104920Z
DESCRIPTION:https://www.uni-marburg.de/de/konfliktforschung/aktuelles/term
 ine/zentrumskolloquium/copy2_of_let-s-talk-about-conflict-center-colloquiu
 m-winter-22\n
LAST-MODIFIED:20240311T144249Z
LOCATION:Dekanats-Saal Ketzerbach 63\, +2/0140
URL:https://www.uni-marburg.de/de/konfliktforschung/aktuelles/termine/zent
 rumskolloquium/copy2_of_let-s-talk-about-conflict-center-colloquium-winter
 -22
END:VEVENT
BEGIN:VTIMEZONE
TZID:Europe/Berlin
X-LIC-LOCATION:Europe/Berlin
BEGIN:STANDARD
DTSTART:20221030T020000
TZNAME:CET
TZOFFSETFROM:+0200
TZOFFSETTO:+0100
END:STANDARD
END:VTIMEZONE
END:VCALENDAR
