BEGIN:VCALENDAR
VERSION:2.0
PRODID:-//Plone.org//NONSGML plone.app.event//EN
X-WR-TIMEZONE:Europe/Berlin
BEGIN:VEVENT
SUMMARY:LET ́S TALK ABOUT CONFLICT - Center Colloquium - Session 4
DTSTART;TZID=Europe/Berlin:20230116T120000
DTEND;TZID=Europe/Berlin:20230116T140000
DTSTAMP:20260425T053057Z
UID:ba821f4b69ad4c8a80ffeb3bd7ea4a99@www.uni-marburg.de
ATTENDEE;CN=" Nilgün Yelpaze (Philipps University Marburg)";ROLE=REQ-PART
 ICIPANT: Nilgün Yelpaze (Philipps University Marburg)
ATTENDEE;CN="Narratives of Justice in Kurdish Documentary Cinema from Turk
 ey";ROLE=REQ-PARTICIPANT:Narratives of Justice in Kurdish Documentary Cine
 ma from Turkey
ATTENDEE;CN=;ROLE=REQ-PARTICIPANT:
ATTENDEE;CN="TraCe Project Team (Philipps University Marburg)";ROLE=REQ-PA
 RTICIPANT:TraCe Project Team (Philipps University Marburg)
ATTENDEE;CN="Introducing the Regional Research Center 'Transformations of 
 Political Violence";ROLE=REQ-PARTICIPANT:Introducing the Regional Research
  Center 'Transformations of Political Violence
CREATED:20221108T104920Z
DESCRIPTION:https://www.uni-marburg.de/de/konfliktforschung/aktuelles/term
 ine/zentrumskolloquium/copy3_of_let-s-talk-about-conflict-center-colloquiu
 m-winter-22\n
LAST-MODIFIED:20240311T144248Z
LOCATION:Dekanats-Saal Ketzerbach 63\, +2/0140
URL:https://www.uni-marburg.de/de/konfliktforschung/aktuelles/termine/zent
 rumskolloquium/copy3_of_let-s-talk-about-conflict-center-colloquium-winter
 -22
END:VEVENT
BEGIN:VTIMEZONE
TZID:Europe/Berlin
X-LIC-LOCATION:Europe/Berlin
BEGIN:STANDARD
DTSTART:20221030T020000
TZNAME:CET
TZOFFSETFROM:+0200
TZOFFSETTO:+0100
END:STANDARD
END:VTIMEZONE
END:VCALENDAR
