BEGIN:VCALENDAR
VERSION:2.0
PRODID:-//Plone.org//NONSGML plone.app.event//EN
X-WR-TIMEZONE:Europe/Berlin
BEGIN:VEVENT
SUMMARY:Shades of Justice? Syrian Diaspora\, Anti- Normalization Struggle\
 , and Lessons from Koblenz
DTSTART;TZID=Europe/Berlin:20231211T180000
DTEND;TZID=Europe/Berlin:20231211T200000
DTSTAMP:20260425T000048Z
UID:ee3cb6a1be394625b87c28e25ee82b5c@www.uni-marburg.de
ATTENDEE;CN="Tareq Alaows (Pro Asyl), Monika Borgmann (Umam Documentation 
 & Research / MENA Prison Forum), Hannah El-Hitami (Freie Journalistin), Ma
 riana Karkoutly (Huquqyat), Moderators: Maria Hartmann & Mina Ibrahim";ROL
 E=REQ-PARTICIPANT:Tareq Alaows (Pro Asyl), Monika Borgmann (Umam Documenta
 tion & Research / MENA Prison Forum), Hannah El-Hitami (Freie Journalistin
 ), Mariana Karkoutly (Huquqyat), Moderators: Maria Hartmann & Mina Ibrahim
CREATED:20231025T142857Z
DESCRIPTION:https://www.uni-marburg.de/de/konfliktforschung/aktuelles/term
 ine/zfkaktuell/medimi-impuls-shades-of-justice-syrian-diaspora-anti-normal
 ization-struggle-and-lessons-from-koblenz\nMeDiMi Impulse
LAST-MODIFIED:20240311T145036Z
LOCATION:Deutschhausstr. 12\, 35037 Marburg & via Livestream (For Arabic T
 ranslation)
URL:https://www.uni-marburg.de/de/konfliktforschung/aktuelles/termine/zfka
 ktuell/medimi-impuls-shades-of-justice-syrian-diaspora-anti-normalization-
 struggle-and-lessons-from-koblenz
END:VEVENT
BEGIN:VTIMEZONE
TZID:Europe/Berlin
X-LIC-LOCATION:Europe/Berlin
BEGIN:STANDARD
DTSTART:20231029T020000
TZNAME:CET
TZOFFSETFROM:+0200
TZOFFSETTO:+0100
END:STANDARD
END:VTIMEZONE
END:VCALENDAR
