BEGIN:VCALENDAR
VERSION:2.0
PRODID:-//Plone.org//NONSGML plone.app.event//EN
X-WR-TIMEZONE:Europe/Berlin
BEGIN:VEVENT
SUMMARY:Runder Tisch zum "Russisch-ukrainischen Krieg"
DTSTART;TZID=Europe/Berlin:20221215T180000
DTEND;TZID=Europe/Berlin:20221215T200000
DTSTAMP:20260425T191410Z
UID:5c4c71b13caf40c7b0e0129baca2c0d8@www.uni-marburg.de
ATTENDEE;CN="Teilnehmende:";ROLE=REQ-PARTICIPANT:Teilnehmende:
ATTENDEE;CN="Svitlana Dyachenko – Deutsch-Ukrainischer Verein OBOZ Plus 
 e.V. (Marburg)";ROLE=REQ-PARTICIPANT:Svitlana Dyachenko – Deutsch-Ukrain
 ischer Verein OBOZ Plus e.V. (Marburg)
ATTENDEE;CN=;ROLE=REQ-PARTICIPANT:
ATTENDEE;CN="Yevhenii Surniaiev – IWEK e.V. Initiative für Wissensausta
 usch, Empowerment und Kultur (Berlin)";ROLE=REQ-PARTICIPANT:Yevhenii Surni
 aiev – IWEK e.V. Initiative für Wissensaustausch, Empowerment und Kultu
 r (Berlin)
ATTENDEE;CN=;ROLE=REQ-PARTICIPANT:
ATTENDEE;CN="Kateryna Pavlova  – Crisis Simulation for Peace e. V (Berli
 n)";ROLE=REQ-PARTICIPANT:Kateryna Pavlova  – Crisis Simulation for Peace
  e. V (Berlin)
ATTENDEE;CN=;ROLE=REQ-PARTICIPANT:
ATTENDEE;CN="Svitlana Korzhavina - UkraineHilfe (Marburg)";ROLE=REQ-PARTIC
 IPANT:Svitlana Korzhavina - UkraineHilfe (Marburg)
ATTENDEE;CN=;ROLE=REQ-PARTICIPANT:
ATTENDEE;CN="Moderation: Prof. Dr. Thorsten Bonacker, Zentrum für Konflik
 tforschung, Yana Alimova, Masterstudierende der Friedens- und Konfliktfors
 chung ";ROLE=REQ-PARTICIPANT:Moderation: Prof. Dr. Thorsten Bonacker, Zent
 rum für Konfliktforschung, Yana Alimova, Masterstudierende der Friedens- 
 und Konfliktforschung 
CREATED:20221208T125015Z
DESCRIPTION:https://www.uni-marburg.de/de/konfliktforschung/aktuelles/term
 ine/zfkaktuell/runder-tisch-zum-russisch-ukrainischen-krieg\nPerspektiven 
 von AktivistInnen aus der Ukraine zum 10 Monate andauernden russisch-ukrai
 nischen Krieg.
LAST-MODIFIED:20240311T145033Z
LOCATION:Bahnhofstraße 7\, 35037 Marburg
URL:https://www.uni-marburg.de/de/konfliktforschung/aktuelles/termine/zfka
 ktuell/runder-tisch-zum-russisch-ukrainischen-krieg
END:VEVENT
BEGIN:VTIMEZONE
TZID:Europe/Berlin
X-LIC-LOCATION:Europe/Berlin
BEGIN:STANDARD
DTSTART:20221030T020000
TZNAME:CET
TZOFFSETFROM:+0200
TZOFFSETTO:+0100
END:STANDARD
END:VTIMEZONE
END:VCALENDAR
