BEGIN:VCALENDAR
VERSION:2.0
PRODID:-//Plone.org//NONSGML plone.app.event//EN
X-WR-TIMEZONE:Europe/Berlin
BEGIN:VEVENT
SUMMARY:BWL für Nicht-Betriebswirtschaftler/-innen
DTSTART;TZID=Europe/Berlin:20150915T090000
DTEND;TZID=Europe/Berlin:20150916T163000
DTSTAMP:20260425T182943Z
UID:30670568d5584639baa1068140f9cb64@www.uni-marburg.de
ATTENDEE;CN="Ingo Schüler";ROLE=REQ-PARTICIPANT:Ingo Schüler
CREATED:20180717T155909Z
DESCRIPTION:https://www.uni-marburg.de/de/mara/aktuelles-mara/events/2015/
 programm-geistes-und-sozialwissenschaften/bwl-fuer-nicht-betriebswirtschaf
 tler-innen\n
LAST-MODIFIED:20190404T090033Z
LOCATION:Philipps-Universität Marburg\, MARA\, F|05\, Deutschhausstraße 
 11+13\, 1. OG\, Seminarraum 01.0010
URL:https://www.uni-marburg.de/de/mara/aktuelles-mara/events/2015/programm
 -geistes-und-sozialwissenschaften/bwl-fuer-nicht-betriebswirtschaftler-inn
 en
END:VEVENT
BEGIN:VTIMEZONE
TZID:Europe/Berlin
X-LIC-LOCATION:Europe/Berlin
BEGIN:DAYLIGHT
DTSTART:20150329T030000
TZNAME:CEST
TZOFFSETFROM:+0100
TZOFFSETTO:+0200
END:DAYLIGHT
END:VTIMEZONE
END:VCALENDAR
