BEGIN:VCALENDAR
VERSION:2.0
PRODID:-//Plone.org//NONSGML plone.app.event//EN
X-WR-TIMEZONE:Europe/Berlin
BEGIN:VEVENT
SUMMARY:Dokumentarische Videoananalyse in der erziehungswissenschaftlichen
  und fachdidaktischen Unterrichtsforschung – ABGESAGT
DTSTART;TZID=Europe/Berlin:20151009T100000
DTEND;TZID=Europe/Berlin:20151009T180000
DTSTAMP:20260425T222816Z
UID:8d43bc19c881434f9da3d78d0c436f38@www.uni-marburg.de
ATTENDEE;CN="Dr. des. Dorthe Petersen";ROLE=REQ-PARTICIPANT:Dr. des. Dorth
 e Petersen
CREATED:20180719T145154Z
DESCRIPTION:https://www.uni-marburg.de/de/mara/aktuelles-mara/events/2015/
 programm-geistes-und-sozialwissenschaften/dokumentarische-videoananalyse-i
 n-der-erziehungswissenschaftlichen-und-fachdidaktischen-unterrichtsforschu
 ng-2013-abgesagt\n
LAST-MODIFIED:20190404T084950Z
LOCATION:Philipps-Universität Marburg\, MARA\, F|05\, Deutschhausstraße 
 11+13\, 1. OG\, Seminarraum 01.0030
URL:https://www.uni-marburg.de/de/mara/aktuelles-mara/events/2015/programm
 -geistes-und-sozialwissenschaften/dokumentarische-videoananalyse-in-der-er
 ziehungswissenschaftlichen-und-fachdidaktischen-unterrichtsforschung-2013-
 abgesagt
END:VEVENT
BEGIN:VTIMEZONE
TZID:Europe/Berlin
X-LIC-LOCATION:Europe/Berlin
BEGIN:DAYLIGHT
DTSTART:20150329T030000
TZNAME:CEST
TZOFFSETFROM:+0100
TZOFFSETTO:+0200
END:DAYLIGHT
END:VTIMEZONE
END:VCALENDAR
