BEGIN:VCALENDAR
VERSION:2.0
PRODID:-//Plone.org//NONSGML plone.app.event//EN
X-WR-TIMEZONE:Europe/Berlin
BEGIN:VEVENT
SUMMARY:Gedruckt gut aussehen – Crashkurs Textgestaltung
DTSTART;TZID=Europe/Berlin:20151030T150000
DTEND;TZID=Europe/Berlin:20151030T190000
DTSTAMP:20260425T214650Z
UID:2701a051679146d1a0fb723055364f9a@www.uni-marburg.de
ATTENDEE;CN="Dr. Matthias Warkus";ROLE=REQ-PARTICIPANT:Dr. Matthias Warkus
CREATED:20180816T125020Z
DESCRIPTION:https://www.uni-marburg.de/de/mara/aktuelles-mara/events/2015/
 programm-geistes-und-sozialwissenschaften/gedruckt-gut-aussehen-crashkurs-
 textgestaltung\n
LAST-MODIFIED:20190122T105851Z
LOCATION:Philipps-Universität Marburg\, MARA\, F|05\, Deutschhausstraße 
 11+13\, 1. OG\, Seminarraum 01.0030
URL:https://www.uni-marburg.de/de/mara/aktuelles-mara/events/2015/programm
 -geistes-und-sozialwissenschaften/gedruckt-gut-aussehen-crashkurs-textgest
 altung
END:VEVENT
BEGIN:VTIMEZONE
TZID:Europe/Berlin
X-LIC-LOCATION:Europe/Berlin
BEGIN:STANDARD
DTSTART:20151025T020000
TZNAME:CET
TZOFFSETFROM:+0200
TZOFFSETTO:+0100
END:STANDARD
END:VTIMEZONE
END:VCALENDAR
