BEGIN:VCALENDAR
VERSION:2.0
PRODID:-//Plone.org//NONSGML plone.app.event//EN
X-WR-TIMEZONE:Europe/Berlin
BEGIN:VEVENT
SUMMARY:Photoshop (Grundkurs) – Digitale Bildbearbeitung mit Adobe Photo
 shop
DTSTART;TZID=Europe/Berlin:20150904T090000
DTEND;TZID=Europe/Berlin:20150904T170000
DTSTAMP:20260425T231854Z
UID:3b0def9e4c47402aab78077eb1ee02b7@www.uni-marburg.de
ATTENDEE;CN="Helge Neubauer";ROLE=REQ-PARTICIPANT:Helge Neubauer
CREATED:20180426T120519Z
DESCRIPTION:https://www.uni-marburg.de/de/mara/aktuelles-mara/events/2015/
 programm-geistes-und-sozialwissenschaften/photoshop-grundkurs-digitale-bil
 dbearbeitung-mit-adobe-photoshop\n
LAST-MODIFIED:20190404T090052Z
LOCATION:Philipps-Universität Marburg\, W|02\, Wilhelm-Röpke Str. 6\, Bl
 ock C\, 3. OG\, Raum 03C01
URL:https://www.uni-marburg.de/de/mara/aktuelles-mara/events/2015/programm
 -geistes-und-sozialwissenschaften/photoshop-grundkurs-digitale-bildbearbei
 tung-mit-adobe-photoshop
END:VEVENT
BEGIN:VTIMEZONE
TZID:Europe/Berlin
X-LIC-LOCATION:Europe/Berlin
BEGIN:DAYLIGHT
DTSTART:20150329T030000
TZNAME:CEST
TZOFFSETFROM:+0100
TZOFFSETTO:+0200
END:DAYLIGHT
END:VTIMEZONE
END:VCALENDAR
