BEGIN:VCALENDAR
VERSION:2.0
PRODID:-//Plone.org//NONSGML plone.app.event//EN
X-WR-TIMEZONE:Europe/Berlin
BEGIN:VEVENT
SUMMARY:Qualitative Auswertungsmethoden im Überblick – Auswählen\, beg
 ründen\, anwenden
DTSTART;TZID=Europe/Berlin:20151005T090000
DTEND;TZID=Europe/Berlin:20151007T170000
DTSTAMP:20260425T212223Z
UID:c53e8b0f4e324dd482b2de05a3ee3c9d@www.uni-marburg.de
ATTENDEE;CN="Dr. Anna Brake";ROLE=REQ-PARTICIPANT:Dr. Anna Brake
CREATED:20180719T135613Z
DESCRIPTION:https://www.uni-marburg.de/de/mara/aktuelles-mara/events/2015/
 programm-geistes-und-sozialwissenschaften/qualitative-auswertungsmethoden-
 im-ueberblick\n
LAST-MODIFIED:20190404T085004Z
LOCATION:Philipps-Universität Marburg\, MARA\, F|05\, Deutschhausstraße 
 11+13\, 1. OG\, Seminarraum 01.0030
URL:https://www.uni-marburg.de/de/mara/aktuelles-mara/events/2015/programm
 -geistes-und-sozialwissenschaften/qualitative-auswertungsmethoden-im-ueber
 blick
END:VEVENT
BEGIN:VTIMEZONE
TZID:Europe/Berlin
X-LIC-LOCATION:Europe/Berlin
BEGIN:DAYLIGHT
DTSTART:20150329T030000
TZNAME:CEST
TZOFFSETFROM:+0100
TZOFFSETTO:+0200
END:DAYLIGHT
END:VTIMEZONE
END:VCALENDAR
