BEGIN:VCALENDAR
VERSION:2.0
PRODID:-//Plone.org//NONSGML plone.app.event//EN
X-WR-TIMEZONE:Europe/Berlin
BEGIN:VEVENT
SUMMARY:Schreibwerkstatt – Roter Faden
DTSTART;TZID=Europe/Berlin:20150914T100000
DTEND;TZID=Europe/Berlin:20151114T140000
DTSTAMP:20260425T000542Z
UID:1f2e34f2db28456a82afb4fdafb51c4d@www.uni-marburg.de
ATTENDEE;CN="Dr. Monika Rapp";ROLE=REQ-PARTICIPANT:Dr. Monika Rapp
CREATED:20180925T112123Z
DESCRIPTION:https://www.uni-marburg.de/de/mara/aktuelles-mara/events/2015/
 programm-geistes-und-sozialwissenschaften/schreibwerkstatt-roter-faden\n
LAST-MODIFIED:20190122T104802Z
LOCATION:Philipps-Universität Marburg\, MARA\, F|05\, Deutschhausstraße 
 11+13\, 1. OG\, Seminarraum 01.0030
URL:https://www.uni-marburg.de/de/mara/aktuelles-mara/events/2015/programm
 -geistes-und-sozialwissenschaften/schreibwerkstatt-roter-faden
END:VEVENT
BEGIN:VTIMEZONE
TZID:Europe/Berlin
X-LIC-LOCATION:Europe/Berlin
BEGIN:DAYLIGHT
DTSTART:20150329T030000
TZNAME:CEST
TZOFFSETFROM:+0100
TZOFFSETTO:+0200
END:DAYLIGHT
BEGIN:STANDARD
DTSTART:20151025T020000
TZNAME:CET
TZOFFSETFROM:+0200
TZOFFSETTO:+0100
END:STANDARD
END:VTIMEZONE
END:VCALENDAR
