BEGIN:VCALENDAR
VERSION:2.0
PRODID:-//Plone.org//NONSGML plone.app.event//EN
X-WR-TIMEZONE:Europe/Berlin
BEGIN:VEVENT
SUMMARY:Schreibwerkstatt – Wissenschaftlicher Stil
DTSTART;TZID=Europe/Berlin:20151212T100000
DTEND;TZID=Europe/Berlin:20151212T140000
DTSTAMP:20260426T021518Z
UID:6d403372b33c425d9591a576a2addddc@www.uni-marburg.de
ATTENDEE;CN="Dr. Monika Rapp";ROLE=REQ-PARTICIPANT:Dr. Monika Rapp
CREATED:20181024T144443Z
DESCRIPTION:https://www.uni-marburg.de/de/mara/aktuelles-mara/events/2015/
 programm-geistes-und-sozialwissenschaften/schreibwerkstatt-wissenschaftlic
 her-stil\n
LAST-MODIFIED:20190122T104516Z
LOCATION:Philipps-Universität Marburg\, MARA\, F|05\, Deutschhausstraße 
 11+13\, 1. OG\, Seminarraum 01.0010
URL:https://www.uni-marburg.de/de/mara/aktuelles-mara/events/2015/programm
 -geistes-und-sozialwissenschaften/schreibwerkstatt-wissenschaftlicher-stil
END:VEVENT
BEGIN:VTIMEZONE
TZID:Europe/Berlin
X-LIC-LOCATION:Europe/Berlin
BEGIN:STANDARD
DTSTART:20151025T020000
TZNAME:CET
TZOFFSETFROM:+0200
TZOFFSETTO:+0100
END:STANDARD
END:VTIMEZONE
END:VCALENDAR
