BEGIN:VCALENDAR
VERSION:2.0
PRODID:-//Plone.org//NONSGML plone.app.event//EN
X-WR-TIMEZONE:Europe/Berlin
BEGIN:VEVENT
SUMMARY:Vom Entwurf einer Dissertation bis zur Publikation – Überblicks
 workshop zum wissenschaftlichen Schreiben in den Geistes- und Sozialwissen
 schaften – abgesagt
DTSTART;TZID=Europe/Berlin:20150702T090000
DTEND;TZID=Europe/Berlin:20150703T163000
DTSTAMP:20260426T001914Z
UID:3b836b52085e45708726af33d193a793@www.uni-marburg.de
ATTENDEE;CN="Alexander Egeling";ROLE=REQ-PARTICIPANT:Alexander Egeling
CREATED:20180612T110901Z
DESCRIPTION:https://www.uni-marburg.de/de/mara/aktuelles-mara/events/2015/
 programm-geistes-und-sozialwissenschaften/vom-entwurf-einer-dissertation-b
 is-zur-publikation\n
LAST-MODIFIED:20190404T090201Z
LOCATION:F|05 bei der Deutschhausstr. 11+13\, 1. OG Seminarraum 01.0020
URL:https://www.uni-marburg.de/de/mara/aktuelles-mara/events/2015/programm
 -geistes-und-sozialwissenschaften/vom-entwurf-einer-dissertation-bis-zur-p
 ublikation
END:VEVENT
BEGIN:VTIMEZONE
TZID:Europe/Berlin
X-LIC-LOCATION:Europe/Berlin
BEGIN:DAYLIGHT
DTSTART:20150329T030000
TZNAME:CEST
TZOFFSETFROM:+0100
TZOFFSETTO:+0200
END:DAYLIGHT
END:VTIMEZONE
END:VCALENDAR
