BEGIN:VCALENDAR
VERSION:2.0
PRODID:-//Plone.org//NONSGML plone.app.event//EN
X-WR-TIMEZONE:Europe/Berlin
BEGIN:VEVENT
SUMMARY:Assessment Center leicht gemacht! – Workshop zur Personalauswahl
DTSTART;TZID=Europe/Berlin:20150710T090000
DTEND;TZID=Europe/Berlin:20150711T130000
DTSTAMP:20260425T225634Z
UID:6534cc48f5394f1dafadea8bb99a09a2@www.uni-marburg.de
ATTENDEE;CN="Johanna Denzel";ROLE=REQ-PARTICIPANT:Johanna Denzel
CREATED:20180503T115807Z
DESCRIPTION:https://www.uni-marburg.de/de/mara/aktuelles-mara/events/2015/
 programm-lebens-und-naturwissenschaften/assessment-center-leicht-gemacht-w
 orkshop-zur-personalauswahl\n
LAST-MODIFIED:20190404T090123Z
LOCATION:Philipps-Universität Marburg\, MARA\, F|05\, Deutschhausstraße 
 11+13\, 1. OG\, Seminarraum 01.0010
URL:https://www.uni-marburg.de/de/mara/aktuelles-mara/events/2015/programm
 -lebens-und-naturwissenschaften/assessment-center-leicht-gemacht-workshop-
 zur-personalauswahl
END:VEVENT
BEGIN:VTIMEZONE
TZID:Europe/Berlin
X-LIC-LOCATION:Europe/Berlin
BEGIN:DAYLIGHT
DTSTART:20150329T030000
TZNAME:CEST
TZOFFSETFROM:+0100
TZOFFSETTO:+0200
END:DAYLIGHT
END:VTIMEZONE
END:VCALENDAR
