BEGIN:VCALENDAR
VERSION:2.0
PRODID:-//Plone.org//NONSGML plone.app.event//EN
X-WR-TIMEZONE:Europe/Berlin
BEGIN:VEVENT
SUMMARY:Das Qualitätssystem GMP – Regelwerke im pharmazeutischen Umfeld
DTSTART;TZID=Europe/Berlin:20150921T090000
DTEND;TZID=Europe/Berlin:20150921T170000
DTSTAMP:20260425T194229Z
UID:8b49989be2be4ed68d7080c6b52fa3f4@www.uni-marburg.de
ATTENDEE;CN="Dr. Heinrich Prinz";ROLE=REQ-PARTICIPANT:Dr. Heinrich Prinz
CREATED:20180719T124610Z
DESCRIPTION:https://www.uni-marburg.de/de/mara/aktuelles-mara/events/2015/
 programm-lebens-und-naturwissenschaften/das-qualitaetssystem-gmp\n
LAST-MODIFIED:20190404T085033Z
LOCATION:Philipps-Universität Marburg\, Centrum für Nah- und Mittelost-S
 tudien (CNMS)\, F|14\, Deutschhausstraße 12\, 1. OG\, Seminarraum 01A03
URL:https://www.uni-marburg.de/de/mara/aktuelles-mara/events/2015/programm
 -lebens-und-naturwissenschaften/das-qualitaetssystem-gmp
END:VEVENT
BEGIN:VTIMEZONE
TZID:Europe/Berlin
X-LIC-LOCATION:Europe/Berlin
BEGIN:DAYLIGHT
DTSTART:20150329T030000
TZNAME:CEST
TZOFFSETFROM:+0100
TZOFFSETTO:+0200
END:DAYLIGHT
END:VTIMEZONE
END:VCALENDAR
