BEGIN:VCALENDAR
VERSION:2.0
PRODID:-//Plone.org//NONSGML plone.app.event//EN
X-WR-TIMEZONE:Europe/Berlin
BEGIN:VEVENT
SUMMARY:How to Design Scientific Figures
DTSTART;TZID=Europe/Berlin:20151105T090000
DTEND;TZID=Europe/Berlin:20151105T170000
DTSTAMP:20260425T180843Z
UID:f64e47e017ae450aaa1d00532f9c95a5@www.uni-marburg.de
ATTENDEE;CN="Dr. Susanne Mükusch";ROLE=REQ-PARTICIPANT:Dr. Susanne Mükus
 ch
CREATED:20180816T135744Z
DESCRIPTION:https://www.uni-marburg.de/de/mara/aktuelles-mara/events/2015/
 programm-lebens-und-naturwissenschaften/how-to-design-scientific-figures\n
LAST-MODIFIED:20190312T115456Z
LOCATION:Philipps-Universität Marburg\, MARA\, F|05\, Deutschhausstraße 
 11+13\, 1st floor\, seminar room 01.0010
URL:https://www.uni-marburg.de/de/mara/aktuelles-mara/events/2015/programm
 -lebens-und-naturwissenschaften/how-to-design-scientific-figures
END:VEVENT
BEGIN:VTIMEZONE
TZID:Europe/Berlin
X-LIC-LOCATION:Europe/Berlin
BEGIN:STANDARD
DTSTART:20151025T020000
TZNAME:CET
TZOFFSETFROM:+0200
TZOFFSETTO:+0100
END:STANDARD
END:VTIMEZONE
END:VCALENDAR
