BEGIN:VCALENDAR
VERSION:2.0
PRODID:-//Plone.org//NONSGML plone.app.event//EN
X-WR-TIMEZONE:Europe/Berlin
BEGIN:VEVENT
SUMMARY:In den Schreibfluss finden – Schreibflusstechniken – abgesagt
DTSTART;TZID=Europe/Berlin:20150717T103000
DTEND;TZID=Europe/Berlin:20150717T144500
DTSTAMP:20260425T232204Z
UID:8c4fe3a6f72d4f029b87226568c25f0b@www.uni-marburg.de
ATTENDEE;CN="Dr. Melanie Brinkschulte";ROLE=REQ-PARTICIPANT:Dr. Melanie Br
 inkschulte
CREATED:20180710T103147Z
DESCRIPTION:https://www.uni-marburg.de/de/mara/aktuelles-mara/events/2015/
 programm-lebens-und-naturwissenschaften/in-den-schreibfluss-finden-2013-sc
 hreibflusstechniken\n
LAST-MODIFIED:20181023T101755Z
LOCATION:Philipps Universität Marburg\, CNMS\, Deutschhausstraße 12\, EG
 \, Seminarraum 00A02
URL:https://www.uni-marburg.de/de/mara/aktuelles-mara/events/2015/programm
 -lebens-und-naturwissenschaften/in-den-schreibfluss-finden-2013-schreibflu
 sstechniken
END:VEVENT
BEGIN:VTIMEZONE
TZID:Europe/Berlin
X-LIC-LOCATION:Europe/Berlin
BEGIN:DAYLIGHT
DTSTART:20150329T030000
TZNAME:CEST
TZOFFSETFROM:+0100
TZOFFSETTO:+0200
END:DAYLIGHT
END:VTIMEZONE
END:VCALENDAR
