BEGIN:VCALENDAR
VERSION:2.0
PRODID:-//Plone.org//NONSGML plone.app.event//EN
X-WR-TIMEZONE:Europe/Berlin
BEGIN:VEVENT
SUMMARY:Promotion und dann? – Karrierewege in den Lebens- und Naturwisse
 nschaften
DTSTART;TZID=Europe/Berlin:20151124T130000
DTEND;TZID=Europe/Berlin:20151125T170000
DTSTAMP:20260425T234222Z
UID:6a0b6b67b67d43d9898ee3ab37f241ce@www.uni-marburg.de
ATTENDEE;CN="Dr. Nils Reschke";ROLE=REQ-PARTICIPANT:Dr. Nils Reschke
CREATED:20181002T102449Z
DESCRIPTION:https://www.uni-marburg.de/de/mara/aktuelles-mara/events/2015/
 programm-lebens-und-naturwissenschaften/promotion-und-dann-karrierewege-in
 -den-lebens-und-naturwissenschaften\n
LAST-MODIFIED:20190404T084820Z
LOCATION:Philipps-Universität Marburg\, MARA\, F|05\, Deutschhausstraße 
 11+13\, 1. OG\, Seminarraum 01.0020
URL:https://www.uni-marburg.de/de/mara/aktuelles-mara/events/2015/programm
 -lebens-und-naturwissenschaften/promotion-und-dann-karrierewege-in-den-leb
 ens-und-naturwissenschaften
END:VEVENT
BEGIN:VTIMEZONE
TZID:Europe/Berlin
X-LIC-LOCATION:Europe/Berlin
BEGIN:STANDARD
DTSTART:20151025T020000
TZNAME:CET
TZOFFSETFROM:+0200
TZOFFSETTO:+0100
END:STANDARD
END:VTIMEZONE
END:VCALENDAR
