BEGIN:VCALENDAR
VERSION:2.0
PRODID:-//Plone.org//NONSGML plone.app.event//EN
X-WR-TIMEZONE:Europe/Berlin
BEGIN:VEVENT
SUMMARY:Statistik mit R – Fortgeschrittene Verfahren der Datenanalyse
DTSTART;TZID=Europe/Berlin:20151001T090000
DTEND;TZID=Europe/Berlin:20151002T170000
DTSTAMP:20260426T022044Z
UID:b513588484d3423e8b9ae0340587d767@www.uni-marburg.de
ATTENDEE;CN="Andreas Wygrabek";ROLE=REQ-PARTICIPANT:Andreas Wygrabek
CREATED:20180719T133652Z
DESCRIPTION:https://www.uni-marburg.de/de/mara/aktuelles-mara/events/2015/
 programm-lebens-und-naturwissenschaften/statistik-mit-r\n
LAST-MODIFIED:20190404T085302Z
LOCATION:Philipps-Universität Marburg\, Centrum für Nah-und Mittelost-St
 udien (CNMS)\, F|14\, Deutschhausstraße 12\, EG\, PC-Pool 00A12
URL:https://www.uni-marburg.de/de/mara/aktuelles-mara/events/2015/programm
 -lebens-und-naturwissenschaften/statistik-mit-r
END:VEVENT
BEGIN:VTIMEZONE
TZID:Europe/Berlin
X-LIC-LOCATION:Europe/Berlin
BEGIN:DAYLIGHT
DTSTART:20150329T030000
TZNAME:CEST
TZOFFSETFROM:+0100
TZOFFSETTO:+0200
END:DAYLIGHT
END:VTIMEZONE
END:VCALENDAR
