BEGIN:VCALENDAR
VERSION:2.0
PRODID:-//Plone.org//NONSGML plone.app.event//EN
X-WR-TIMEZONE:Europe/Berlin
BEGIN:VEVENT
SUMMARY:Writing Lab – Academic Writing Style for the Life and Natural Sc
 iences
DTSTART;TZID=Europe/Berlin:20151024T100000
DTEND;TZID=Europe/Berlin:20151024T140000
DTSTAMP:20260426T022557Z
UID:739aa014927d4d488005bb07cb4ad67e@www.uni-marburg.de
ATTENDEE;CN="Dr. Fabienne Quennet";ROLE=REQ-PARTICIPANT:Dr. Fabienne Quenn
 et
CREATED:20180719T155117Z
DESCRIPTION:https://www.uni-marburg.de/de/mara/aktuelles-mara/events/2015/
 programm-lebens-und-naturwissenschaften/writing-lab-academic-writing-style
 -for-the-life-and-natural-sciences\n
LAST-MODIFIED:20190122T105138Z
LOCATION:Philipps-Universität Marburg\, MARA\, F|05\, Deutschhausstraße 
 11+13\, 1st floor\, seminar room 01.0010
URL:https://www.uni-marburg.de/de/mara/aktuelles-mara/events/2015/programm
 -lebens-und-naturwissenschaften/writing-lab-academic-writing-style-for-the
 -life-and-natural-sciences
END:VEVENT
BEGIN:VTIMEZONE
TZID:Europe/Berlin
X-LIC-LOCATION:Europe/Berlin
BEGIN:DAYLIGHT
DTSTART:20150329T030000
TZNAME:CEST
TZOFFSETFROM:+0100
TZOFFSETTO:+0200
END:DAYLIGHT
END:VTIMEZONE
END:VCALENDAR
