BEGIN:VCALENDAR
VERSION:2.0
PRODID:-//Plone.org//NONSGML plone.app.event//EN
X-WR-TIMEZONE:Europe/Berlin
BEGIN:VEVENT
SUMMARY:Writing Scientific Publications – Producing a First Draft of You
 r Paper – cancelled
DTSTART;TZID=Europe/Berlin:20151204T090000
DTEND;TZID=Europe/Berlin:20151205T170000
DTSTAMP:20260426T022554Z
UID:6d78358678b3484d84bd48cdf6ee5827@www.uni-marburg.de
ATTENDEE;CN="Prof. Dr. Volker Grimm";ROLE=REQ-PARTICIPANT:Prof. Dr. Volker
  Grimm
CREATED:20181023T102840Z
DESCRIPTION:https://www.uni-marburg.de/de/mara/aktuelles-mara/events/2015/
 programm-lebens-und-naturwissenschaften/writing-scientific-publications-20
 13-producing-a-first-draft-of-your-paper-2013-cancelled\n
LAST-MODIFIED:20190312T115409Z
LOCATION:Philipps-Universität Marburg\, MARA\, F|05\, Deutschhausstraße 
 11+13\, 1st floor\, seminar room 01.0030
URL:https://www.uni-marburg.de/de/mara/aktuelles-mara/events/2015/programm
 -lebens-und-naturwissenschaften/writing-scientific-publications-2013-produ
 cing-a-first-draft-of-your-paper-2013-cancelled
END:VEVENT
BEGIN:VTIMEZONE
TZID:Europe/Berlin
X-LIC-LOCATION:Europe/Berlin
BEGIN:STANDARD
DTSTART:20151025T020000
TZNAME:CET
TZOFFSETFROM:+0200
TZOFFSETTO:+0100
END:STANDARD
END:VTIMEZONE
END:VCALENDAR
