BEGIN:VCALENDAR
VERSION:2.0
PRODID:-//Plone.org//NONSGML plone.app.event//EN
X-WR-TIMEZONE:Europe/Berlin
BEGIN:VEVENT
SUMMARY:Zeit- und Selbstmanagement für wissenschaftliches Arbeiten
DTSTART;TZID=Europe/Berlin:20151030T090000
DTEND;TZID=Europe/Berlin:20151031T170000
DTSTAMP:20260425T175740Z
UID:b67d959f12004bcaa31e7289aefcb235@www.uni-marburg.de
ATTENDEE;CN="Dr. Markus Gyger";ROLE=REQ-PARTICIPANT:Dr. Markus Gyger
CREATED:20180816T130606Z
DESCRIPTION:https://www.uni-marburg.de/de/mara/aktuelles-mara/events/2015/
 programm-lebens-und-naturwissenschaften/zeit-und-selbstmanagement-fuer-wis
 senschaftliches-arbeiten\n
LAST-MODIFIED:20190404T084919Z
LOCATION:Philipps-Universität Marburg\, MARA\, F|05\, Deutschhausstraße 
 11+13\, 1. OG\, Seminarraum 01.0020
URL:https://www.uni-marburg.de/de/mara/aktuelles-mara/events/2015/programm
 -lebens-und-naturwissenschaften/zeit-und-selbstmanagement-fuer-wissenschaf
 tliches-arbeiten
END:VEVENT
BEGIN:VTIMEZONE
TZID:Europe/Berlin
X-LIC-LOCATION:Europe/Berlin
BEGIN:STANDARD
DTSTART:20151025T020000
TZNAME:CET
TZOFFSETFROM:+0200
TZOFFSETTO:+0100
END:STANDARD
END:VTIMEZONE
END:VCALENDAR
