BEGIN:VCALENDAR
VERSION:2.0
PRODID:-//Plone.org//NONSGML plone.app.event//EN
X-WR-TIMEZONE:Europe/Berlin
BEGIN:VEVENT
SUMMARY:EMF: Argumentations-Rhetorik im wissenschaftlichen Umfeld – Verb
 al und nonverbal
DTSTART;TZID=Europe/Berlin:20151116T090000
DTEND;TZID=Europe/Berlin:20151116T170000
DTSTAMP:20260425T224617Z
UID:08467f4b39c34d06a59cea564e01a462@www.uni-marburg.de
ATTENDEE;CN="Oliver Leibrecht";ROLE=REQ-PARTICIPANT:Oliver Leibrecht
CREATED:20180925T113741Z
DESCRIPTION:https://www.uni-marburg.de/de/mara/aktuelles-mara/events/2015/
 programm-postdoc/argumentations-rhetorik-im-wissenschaftlichen-umfeld-verb
 al-und-nonverbal\n
LAST-MODIFIED:20190404T085618Z
LOCATION:Philipps-Universität Marburg\, MARA\, F|05\, Deutschhausstr. 11+
 13\, 1. OG\, Seminarraum 01.0010
URL:https://www.uni-marburg.de/de/mara/aktuelles-mara/events/2015/programm
 -postdoc/argumentations-rhetorik-im-wissenschaftlichen-umfeld-verbal-und-n
 onverbal
END:VEVENT
BEGIN:VTIMEZONE
TZID:Europe/Berlin
X-LIC-LOCATION:Europe/Berlin
BEGIN:STANDARD
DTSTART:20151025T020000
TZNAME:CET
TZOFFSETFROM:+0200
TZOFFSETTO:+0100
END:STANDARD
END:VTIMEZONE
END:VCALENDAR
