BEGIN:VCALENDAR
VERSION:2.0
PRODID:-//Plone.org//NONSGML plone.app.event//EN
X-WR-TIMEZONE:Europe/Berlin
BEGIN:VEVENT
SUMMARY:EMF: Achtsam führen
DTSTART;TZID=Europe/Berlin:20151210T090000
DTEND;TZID=Europe/Berlin:20151211T170000
DTSTAMP:20260425T194117Z
UID:5537020b056b4e689442d266b2f19de3@www.uni-marburg.de
ATTENDEE;CN="Barbara Schade";ROLE=REQ-PARTICIPANT:Barbara Schade
CREATED:20181023T110129Z
DESCRIPTION:https://www.uni-marburg.de/de/mara/aktuelles-mara/events/2015/
 programm-postdoc/emf-achtsam-fuhren\n
LAST-MODIFIED:20190404T084751Z
LOCATION:Philipps-Universität Marburg\, MARA\, F|05\, Deutschhausstr. 11+
 13\, 1. OG\, Seminarraum 01.0010
URL:https://www.uni-marburg.de/de/mara/aktuelles-mara/events/2015/programm
 -postdoc/emf-achtsam-fuhren
END:VEVENT
BEGIN:VTIMEZONE
TZID:Europe/Berlin
X-LIC-LOCATION:Europe/Berlin
BEGIN:STANDARD
DTSTART:20151025T020000
TZNAME:CET
TZOFFSETFROM:+0200
TZOFFSETTO:+0100
END:STANDARD
END:VTIMEZONE
END:VCALENDAR
