BEGIN:VCALENDAR
VERSION:2.0
PRODID:-//Plone.org//NONSGML plone.app.event//EN
X-WR-TIMEZONE:Europe/Berlin
BEGIN:VEVENT
SUMMARY:Forschen in Zusammenarbeit mit der gewerblichen Wirtschaft
DTSTART;TZID=Europe/Berlin:20151007T090000
DTEND;TZID=Europe/Berlin:20151007T130000
DTSTAMP:20260425T213537Z
UID:99ade841b1e146c4abd223aa6cf93e9e@www.uni-marburg.de
ATTENDEE;CN="Vanessa Kuhl, Sandra Basenau";ROLE=REQ-PARTICIPANT:Vanessa Ku
 hl, Sandra Basenau
CREATED:20180719T142449Z
DESCRIPTION:https://www.uni-marburg.de/de/mara/aktuelles-mara/events/2015/
 programm-postdoc/forschen-in-zusammenarbeit-mit-der-gewerblichen-wirtschaf
 t\n
LAST-MODIFIED:20180719T142835Z
LOCATION:Philipps-Universität Marburg\, MARA\, F|05\, Deutschhausstraße 
 11+13\, 1. OG\, Seminarraum 01.0020
URL:https://www.uni-marburg.de/de/mara/aktuelles-mara/events/2015/programm
 -postdoc/forschen-in-zusammenarbeit-mit-der-gewerblichen-wirtschaft
END:VEVENT
BEGIN:VTIMEZONE
TZID:Europe/Berlin
X-LIC-LOCATION:Europe/Berlin
BEGIN:DAYLIGHT
DTSTART:20150329T030000
TZNAME:CEST
TZOFFSETFROM:+0100
TZOFFSETTO:+0200
END:DAYLIGHT
END:VTIMEZONE
END:VCALENDAR
