BEGIN:VCALENDAR
VERSION:2.0
PRODID:-//Plone.org//NONSGML plone.app.event//EN
X-WR-TIMEZONE:Europe/Berlin
BEGIN:VEVENT
SUMMARY:Vermarktung von Hochschul-Know-how für Naturwissenschaftler/-inne
 n
DTSTART;TZID=Europe/Berlin:20150717T090000
DTEND;TZID=Europe/Berlin:20150717T130000
DTSTAMP:20260425T201251Z
UID:d6dd47f9377049f58385a39c735b30eb@www.uni-marburg.de
ATTENDEE;CN="Dr. Michaela Kirndörfer";ROLE=REQ-PARTICIPANT:Dr. Michaela K
 irndörfer
CREATED:20180717T142522Z
DESCRIPTION:https://www.uni-marburg.de/de/mara/aktuelles-mara/events/2015/
 programm-postdoc/vermarktung-von-hochschul-know-how-fuer-naturwissenschaft
 ler-innen\n
LAST-MODIFIED:20180717T142927Z
LOCATION:Philipps-Universität Marburg\, Centrum für Nah- und Mittelost-S
 tudien (CNMS)\, F|14\, Deutschhausstr. 12\, EG\, PC-Pool 00A19
URL:https://www.uni-marburg.de/de/mara/aktuelles-mara/events/2015/programm
 -postdoc/vermarktung-von-hochschul-know-how-fuer-naturwissenschaftler-inne
 n
END:VEVENT
BEGIN:VTIMEZONE
TZID:Europe/Berlin
X-LIC-LOCATION:Europe/Berlin
BEGIN:DAYLIGHT
DTSTART:20150329T030000
TZNAME:CEST
TZOFFSETFROM:+0100
TZOFFSETTO:+0200
END:DAYLIGHT
END:VTIMEZONE
END:VCALENDAR
