BEGIN:VCALENDAR
VERSION:2.0
PRODID:-//Plone.org//NONSGML plone.app.event//EN
X-WR-TIMEZONE:Europe/Berlin
BEGIN:VEVENT
SUMMARY:Zusammenarbeit mit der Industrie
DTSTART;TZID=Europe/Berlin:20151111T090000
DTEND;TZID=Europe/Berlin:20151111T130000
DTSTAMP:20260425T162847Z
UID:cb0b80556aed4416b685c14b981dcc97@www.uni-marburg.de
ATTENDEE;CN="Sandra Basenau";ROLE=REQ-PARTICIPANT:Sandra Basenau
CREATED:20180925T105010Z
DESCRIPTION:https://www.uni-marburg.de/de/mara/aktuelles-mara/events/2015/
 programm-postdoc/zusammenarbeit-mit-der-industrie\n
LAST-MODIFIED:20180925T105441Z
LOCATION:Philipps-Universität Marburg\, MARA\, F|05\, Deutschhausstr. 11+
 13\, 1. OG\, Seminarraum 01.0030
URL:https://www.uni-marburg.de/de/mara/aktuelles-mara/events/2015/programm
 -postdoc/zusammenarbeit-mit-der-industrie
END:VEVENT
BEGIN:VTIMEZONE
TZID:Europe/Berlin
X-LIC-LOCATION:Europe/Berlin
BEGIN:STANDARD
DTSTART:20151025T020000
TZNAME:CET
TZOFFSETFROM:+0200
TZOFFSETTO:+0100
END:STANDARD
END:VTIMEZONE
END:VCALENDAR
