BEGIN:VCALENDAR
VERSION:2.0
PRODID:-//Plone.org//NONSGML plone.app.event//EN
X-WR-TIMEZONE:Europe/Berlin
BEGIN:VEVENT
SUMMARY:Souverän vortragen – Verbale und nonverbale Präsentationsstrat
 egien
DTSTART;TZID=Europe/Berlin:20170119T090000
DTEND;TZID=Europe/Berlin:20170119T170000
DTSTAMP:20260425T215014Z
UID:5cec8f2088ce4ac99f142084369fe672@www.uni-marburg.de
ATTENDEE;CN="Oliver Leibrecht, www.euton.de";ROLE=REQ-PARTICIPANT:Oliver L
 eibrecht, www.euton.de
CREATED:20190404T102450Z
DESCRIPTION:https://www.uni-marburg.de/de/mara/aktuelles-mara/events/2017/
 programm-geistes-und-sozialwissenschaften/copy_of_souveraen-vortragen-verb
 ale-und-nonverbale-praesentationsstrategien\n
LAST-MODIFIED:20190425T151413Z
LOCATION:Philipps-Universität Marburg\, MARA\, F|05\, Deutschhausstraße 
 11+13\, 1. OG\, Seminarraum 01.0020
URL:https://www.uni-marburg.de/de/mara/aktuelles-mara/events/2017/programm
 -geistes-und-sozialwissenschaften/copy_of_souveraen-vortragen-verbale-und-
 nonverbale-praesentationsstrategien
END:VEVENT
BEGIN:VTIMEZONE
TZID:Europe/Berlin
X-LIC-LOCATION:Europe/Berlin
BEGIN:STANDARD
DTSTART:20161030T020000
TZNAME:CET
TZOFFSETFROM:+0200
TZOFFSETTO:+0100
END:STANDARD
END:VTIMEZONE
END:VCALENDAR
