BEGIN:VCALENDAR
VERSION:2.0
PRODID:-//Plone.org//NONSGML plone.app.event//EN
X-WR-TIMEZONE:Europe/Berlin
BEGIN:VEVENT
SUMMARY:Disputationstraining
DTSTART;TZID=Europe/Berlin:20170622T103000
DTEND;TZID=Europe/Berlin:20170623T170000
DTSTAMP:20260419T202529Z
UID:3a266023db254c668ee686e99a3ce2d9@www.uni-marburg.de
ATTENDEE;CN="Prof. Dr. Daniel Wrede, www.danielwre.de";ROLE=REQ-PARTICIPAN
 T:Prof. Dr. Daniel Wrede, www.danielwre.de
CREATED:20190819T104935Z
DESCRIPTION:https://www.uni-marburg.de/de/mara/aktuelles-mara/events/2017/
 programm-geistes-und-sozialwissenschaften/disputationstraining\n
LAST-MODIFIED:20190819T140035Z
LOCATION:Philipps-Universität Marburg\, MARA\, F|05\, Deutschhausstraße 
 11+13\, 1. OG\, Seminarraum 01.0010
URL:https://www.uni-marburg.de/de/mara/aktuelles-mara/events/2017/programm
 -geistes-und-sozialwissenschaften/disputationstraining
END:VEVENT
BEGIN:VTIMEZONE
TZID:Europe/Berlin
X-LIC-LOCATION:Europe/Berlin
BEGIN:DAYLIGHT
DTSTART:20170326T030000
TZNAME:CEST
TZOFFSETFROM:+0100
TZOFFSETTO:+0200
END:DAYLIGHT
END:VTIMEZONE
END:VCALENDAR
