BEGIN:VCALENDAR
VERSION:2.0
PRODID:-//Plone.org//NONSGML plone.app.event//EN
X-WR-TIMEZONE:Europe/Berlin
BEGIN:VEVENT
SUMMARY:Doing Your PhD in Germany
DTSTART;TZID=Europe/Berlin:20170918T090000
DTEND;TZID=Europe/Berlin:20170918T170000
DTSTAMP:20260420T234531Z
UID:23319b96ee68499c92664b25200aafa9@www.uni-marburg.de
ATTENDEE;CN="Dr. Jan Schmidt, www.janschmidt-training.de";ROLE=REQ-PARTICI
 PANT:Dr. Jan Schmidt, www.janschmidt-training.de
CREATED:20190827T205522Z
DESCRIPTION:https://www.uni-marburg.de/de/mara/aktuelles-mara/events/2017/
 programm-geistes-und-sozialwissenschaften/doing-your-phd-in-germany\n
LAST-MODIFIED:20191031T164211Z
LOCATION:Philipps-Universität Marburg\, MARA\, F|05\, Deutschhausstraße 
 11+13\, 1. OG\, Seminar room 01.0030
URL:https://www.uni-marburg.de/de/mara/aktuelles-mara/events/2017/programm
 -geistes-und-sozialwissenschaften/doing-your-phd-in-germany
END:VEVENT
BEGIN:VTIMEZONE
TZID:Europe/Berlin
X-LIC-LOCATION:Europe/Berlin
BEGIN:DAYLIGHT
DTSTART:20170326T030000
TZNAME:CEST
TZOFFSETFROM:+0100
TZOFFSETTO:+0200
END:DAYLIGHT
END:VTIMEZONE
END:VCALENDAR
