BEGIN:VCALENDAR
VERSION:2.0
PRODID:-//Plone.org//NONSGML plone.app.event//EN
X-WR-TIMEZONE:Europe/Berlin
BEGIN:VEVENT
SUMMARY:Hochschulkarriere und Familienplanung – Alles unter einen Hut?
DTSTART;TZID=Europe/Berlin:20170620T090000
DTEND;TZID=Europe/Berlin:20170621T130000
DTSTAMP:20260425T081012Z
UID:7cd793f476d445cc85759a3dd534e4f4@www.uni-marburg.de
ATTENDEE;CN="Dr. Dieta Kuchenbrandt, www.schainundkuchenbrandt.com";ROLE=R
 EQ-PARTICIPANT:Dr. Dieta Kuchenbrandt, www.schainundkuchenbrandt.com
CREATED:20190819T103512Z
DESCRIPTION:https://www.uni-marburg.de/de/mara/aktuelles-mara/events/2017/
 programm-geistes-und-sozialwissenschaften/hochschulkarriere-und-familienpl
 anung-alles-unter-einen-hut\n
LAST-MODIFIED:20190819T104003Z
LOCATION:Philipps-Universität Marburg\, MARA\, F|05\, Deutschhausstraße 
 11+13\, 1. OG\, Seminarraum 01.0030
URL:https://www.uni-marburg.de/de/mara/aktuelles-mara/events/2017/programm
 -geistes-und-sozialwissenschaften/hochschulkarriere-und-familienplanung-al
 les-unter-einen-hut
END:VEVENT
BEGIN:VTIMEZONE
TZID:Europe/Berlin
X-LIC-LOCATION:Europe/Berlin
BEGIN:DAYLIGHT
DTSTART:20170326T030000
TZNAME:CEST
TZOFFSETFROM:+0100
TZOFFSETTO:+0200
END:DAYLIGHT
END:VTIMEZONE
END:VCALENDAR
