BEGIN:VCALENDAR
VERSION:2.0
PRODID:-//Plone.org//NONSGML plone.app.event//EN
X-WR-TIMEZONE:Europe/Berlin
BEGIN:VEVENT
SUMMARY:Layout mit InDesign – Professionelles Layout wissenschaftlicher 
 Texte
DTSTART;TZID=Europe/Berlin:20170724T093000
DTEND;TZID=Europe/Berlin:20170724T173000
DTSTAMP:20260423T190400Z
UID:02f9073fe043479cb74d5add74f09002@www.uni-marburg.de
ATTENDEE;CN="Helge Neubauer";ROLE=REQ-PARTICIPANT:Helge Neubauer
CREATED:20190822T121446Z
DESCRIPTION:https://www.uni-marburg.de/de/mara/aktuelles-mara/events/2017/
 programm-geistes-und-sozialwissenschaften/layout-mit-indesign-professionel
 les-layout-wissenschaftlicher-texte\n
LAST-MODIFIED:20190822T122305Z
LOCATION:Centrum für Nah- und Mittelost-Studien (CNMS)\, F|14\, Deutschha
 usstraße 12\, PC-Pool 00A19
URL:https://www.uni-marburg.de/de/mara/aktuelles-mara/events/2017/programm
 -geistes-und-sozialwissenschaften/layout-mit-indesign-professionelles-layo
 ut-wissenschaftlicher-texte
END:VEVENT
BEGIN:VTIMEZONE
TZID:Europe/Berlin
X-LIC-LOCATION:Europe/Berlin
BEGIN:DAYLIGHT
DTSTART:20170326T030000
TZNAME:CEST
TZOFFSETFROM:+0100
TZOFFSETTO:+0200
END:DAYLIGHT
END:VTIMEZONE
END:VCALENDAR
