BEGIN:VCALENDAR
VERSION:2.0
PRODID:-//Plone.org//NONSGML plone.app.event//EN
X-WR-TIMEZONE:Europe/Berlin
BEGIN:VEVENT
SUMMARY:Open Research – Was ist und wie betreibe ich "offene" Wissenscha
 ft?
DTSTART;TZID=Europe/Berlin:20171122T090000
DTEND;TZID=Europe/Berlin:20171122T130000
DTSTAMP:20260426T002100Z
UID:71202910a53c43fb9c7b47b88e081e0d@www.uni-marburg.de
ATTENDEE;CN="Dr. Timo Glaser";ROLE=REQ-PARTICIPANT:Dr. Timo Glaser
CREATED:20191021T115920Z
DESCRIPTION:https://www.uni-marburg.de/de/mara/aktuelles-mara/events/2017/
 programm-geistes-und-sozialwissenschaften/open-research-was-ist-und-wie-be
 treibe-ich-offene-wissenschaft\n
LAST-MODIFIED:20191021T120212Z
LOCATION:Philipps-Universität Marburg\, MARA\, F|05\, Deutschhausstraße 
 11+13\, 1. OG\, Seminarraum 01.0030
URL:https://www.uni-marburg.de/de/mara/aktuelles-mara/events/2017/programm
 -geistes-und-sozialwissenschaften/open-research-was-ist-und-wie-betreibe-i
 ch-offene-wissenschaft
END:VEVENT
BEGIN:VTIMEZONE
TZID:Europe/Berlin
X-LIC-LOCATION:Europe/Berlin
BEGIN:STANDARD
DTSTART:20171029T020000
TZNAME:CET
TZOFFSETFROM:+0200
TZOFFSETTO:+0100
END:STANDARD
END:VTIMEZONE
END:VCALENDAR
