BEGIN:VCALENDAR
VERSION:2.0
PRODID:-//Plone.org//NONSGML plone.app.event//EN
X-WR-TIMEZONE:Europe/Berlin
BEGIN:VEVENT
SUMMARY:Promotion und dann? – Karriereplanung von Promovierenden der Gei
 stes- und Sozialwissenschaften
DTSTART;TZID=Europe/Berlin:20170213T090000
DTEND;TZID=Europe/Berlin:20170214T170000
DTSTAMP:20260425T215024Z
UID:d111aa69440045b199fa47c94cba3287@www.uni-marburg.de
ATTENDEE;CN="Prof. Dr. Heike Kahlert, www.heike-kahlert.de";ROLE=REQ-PARTI
 CIPANT:Prof. Dr. Heike Kahlert, www.heike-kahlert.de
CREATED:20190425T140322Z
DESCRIPTION:https://www.uni-marburg.de/de/mara/aktuelles-mara/events/2017/
 programm-geistes-und-sozialwissenschaften/promotion-und-dann-karriereplanu
 ng-von-promovierenden-der-geistes-und-sozialwissenschaften\n
LAST-MODIFIED:20190430T103833Z
LOCATION:Philipps-Universität Marburg\, MARA\, F|05\, Deutschhausstraße 
 11+13\, 1. OG\, Seminarraum 01.0010
URL:https://www.uni-marburg.de/de/mara/aktuelles-mara/events/2017/programm
 -geistes-und-sozialwissenschaften/promotion-und-dann-karriereplanung-von-p
 romovierenden-der-geistes-und-sozialwissenschaften
END:VEVENT
BEGIN:VTIMEZONE
TZID:Europe/Berlin
X-LIC-LOCATION:Europe/Berlin
BEGIN:STANDARD
DTSTART:20161030T020000
TZNAME:CET
TZOFFSETFROM:+0200
TZOFFSETTO:+0100
END:STANDARD
END:VTIMEZONE
END:VCALENDAR
